Workbook

Sheet Дейност 1
A1: Дейност 1. Създаване на училищни и местни общности в подкрепа процеса на десегрегация на училищата и намаляване на негативни обществени нагласи в образованието | G1: проект за 30 месеца | I1: 5 учебни срока
A2: Въвеждат се данни само за ПС и ЕОД в полетата, оцветени в жълто. Разходи за образователни медиатори от Училище/община се планират само по Дейност 1
A3: ПС - педагогически специалисти; ЕОД - експерти образователни дейности
A4: Съгласно Анализ-декларация на директора на образователната институция (когато е приложимо) | B4: Кандидат - училище група 4 | F4: режим непомощ, вкл. за ЕОД съгл.т.16 от УК
A5: Индикативен брой отработени астрономически часове за 1 учебен срок | D5: Единичен разход | E5: Възнаграждения за 1 учебен срок
A6: Възнаграждения на педагогически специалисти в Дейност 1 | B6: ПС | C6: Планирани астрономически часове - общо | G6: Разпределение между партньорите
A7: съвместни сбирки, микрореферендуми, др. в квартала/района | B7: ПС | C7: 12 | D7: 38 | E7: =C7*D7 -> 456 | F7: 1събитиех4ПСх3 часа | G7: К | H7: П1 | I7: П2 | J7: П3
A8: информационни кампании, събития | B8: ПС | C8: 12 | D8: 38 | E8: =C8*D8 -> 456 | F8: 1събитиерх4ПСх3часа | G8: =E22 -> 40618 | H8: =E43 -> 36340 | I8: =E64 -> 31602 | J8: =E86 -> 8602
A9: съвместни инициативи на училищно ниво - родителски форуми | B9: ПС | C9: 8 | D9: 38 | E9: =C9*D9 -> 304 | F9: 1събитиех4ПСх2часа
A10: проучване на нагласите/допитване до заинтересованите страни | B10: ПС | D10: 38 | E10: =C10*D10 -> 0
A11: Възнаграждения на експерти образователни дейности в Дейност 1 | B11: ЕОД | C11: Планирани астрономически часове - общо
A12: съвместни сбирки, микрореферендуми, др. в квартала/района | B12: ЕОД | C12: 6 | D12: 44 | E12: =C12*D12 -> 264 | F12: 1събитиех2ЕОДх3часа
A13: информационни кампании, събития | B13: ЕОД | C13: 6 | D13: 44 | E13: =C13*D13 -> 264 | F13: 1събитиех2ЕОДх3часа
A14: съвместни инициативи на училищно ниво - родителски форуми | B14: ЕОД | C14: 4 | D14: 44 | E14: =C14*D14 -> 176 | F14: 1събитиех2ЕОДх2часа
A15: проучване на нагласите/допитване до заинтересованите страни | B15: ЕОД | C15: 16 | D15: 44 | E15: =C15*D15 -> 704 | F15: 1събитиех4ЕОДх4часа
A16: Индикативен брой медиатори и др. с приравнена заетост от 4 часа на ден (само за училища и общини) | B16: Брой медиатори | C16: Брой човеко месеци медиатори
A17: Кандидат - Брой човеко-месеци за 1 учебен срок - (например 1 медиатор от К по 6 месеца за 1 срок от по 4 часа) | B17: 1 | C17: 6 | D17: 740 | E17: =C17*D17 -> 4440 | F17: 1 обр.медиатор -6 месеца за 1 уч.срок | I17: обр.медиатор, назначен в училище или община
B19: Общо разходи за възнаграждения за 1 учебен срок | E19: =SUM(E7:E17) -> 7064
B20: Планиран брой учебни срокове за участие в проекта | E20: 5
B21: Общо разходи за възнаграждения за Дейност 1 | E21: =E19*E20 -> 35320
B22: Индексирани общо разходи за възнаграждения по Дейност 1 | E22: =E21*1.15 -> 40618
A25: Съгласно Анализ-декларация на директора на образователната институция (когато е приложимо) | B25: Партньор 1 училище без концентрация | F25: режим непомощ, вкл. за ЕОД съгл.т.16 от УК
A26: Индикативен брой отработени астрономически часове за 1 учебен срок | D26: Единичен разход | E26: Възнаграждения за 1 учебен срок
A27: Възнаграждения на педагогически специалисти в Дейност 1 | B27: ПС | C27: Планирани астрономически часове - общо
A28: съвместни сбирки, микрореферендуми, др. в квартала/района | B28: ПС | D28: 38 | E28: =C28*D28 -> 0
A29: информационни кампании, събития | B29: ПС | C29: 8 | D29: 38 | E29: =C29*D29 -> 304 | F29: 1събитиех4ПСх2часа
A30: съвместни инициативи на училищно ниво - родителски форуми, др. | B30: ПС | C30: 8 | D30: 38 | E30: =C30*D30 -> 304 | F30: 1събитиех4ПСх2часа
A31: проучване на нагласите/допитване до заинтересованите страни | B31: ПС | C31: 8 | D31: 38 | E31: =C31*D31 -> 304 | F31: 1събитиех4ПСх2часа
A32: Възнаграждения на експерти образователни дейности в Дейност 1 | B32: ЕОД | C32: Планирани астрономически часове - общо
A33: съвместни сбирки, микрореферендуми, др. в квартала/района | B33: ЕОД | D33: 44 | E33: =C33*D33 -> 0
A34: информационни кампании, събития | B34: ЕОД | C34: 6 | D34: 44 | E34: =C34*D34 -> 264 | F34: 1събитиех2ЕОДх3часа
A35: съвместни инициативи на училищно ниво - родителски форуми, др. | B35: ЕОД | C35: 6 | D35: 44 | E35: =C35*D35 -> 264 | F35: 1събитиех2ЕОДх3часа
A36: проучване на нагласите/допитване до заинтересованите страни | B36: ЕОД | C36: 10 | D36: 44 | E36: =C36*D36 -> 440 | F36: 1събитиех2ЕОДх5часа
A37: Индикативен брой медиатори и др. с приравнена заетост от 4 часа на ден (само за училища и общини) | B37: Брой медиатори | C37: Брой човеко месеци медиатори
A38: Партньор 1 - Брой човеко-месеци за 1 учебен срок - (например 1 медиатор от П1 по 6 месеца за 1 срок от по 4 часа) | B38: 1 | C38: 6 | D38: 740 | E38: =C38*D38 -> 4440 | F38: 1 обр.медиатор -6 месеца за 1 уч.срок | H38: обр.медиатор, назначен в училище или община
B40: Общо разходи за възнаграждения за 1 учебен срок | E40: =SUM(E28:E38) -> 6320
B41: Планиран брой учебни срокове за участие в проекта | E41: 5
B42: Общо разходи за възнаграждения за Дейност 1 | E42: =E40*E41 -> 31600
B43: Индексирани общо разходи за възнаграждения по Дейност 1 | E43: =E42*1.15 -> 36340
A46: Съгласно Анализ-декларация на директора на образователната институция (когато е приложимо) | B46: Партньор 2 - община | F46: режим непомощ за ЕОД съгл.т.16 от УК
...

Sheet Дейност 2
A1: Дейност 2. Обучения на местна и училищна администрация, на образователни медиатори, социални работници и други заинтересовани страни и на педагогически специалисти за работа в мултикултурна среда за придобиване, развиване и прилагане на компетентности за демократична култура съгласно Референтната рамка на компетенциите за демократична култура, Хартата на основните права на ЕС
A2: Въвеждат се данни само в полетата, оцветени в жълто
A4: Съгласно Анализ-декларация на директора на образователната институция, приложимо за К/П училища | B4: Общо за образователни институции
B5: Общо | C5: Включени в проекта
A6: Брой образователни медиатори от училища и община общо от К, П1, П2, П3 | B6: 3 | C6: 3 | D6: обр. медиатори 3ма, по един за всяко от двете училиа и 1 в общината
A7: Брой ПС в училище - К, когато е приложимо | B7: 18 | C7: 18
A8: Брой ПС в училище - П1, когато е приложимо | B8: 27 | C8: 22
A9: Брой ПС в училище - П2, когато е приложимо
A10: Брой ПС в училище - П3, когато е приложимо
A11: Брой лица от общинска администрация и Общински съвет - общо (посочва се приложимото за общината/общините - К и/или П) | B11: 37 | C11: 37
A12: Брой лица от училищна администрация, вкл. от РУО, които не са ПС, общо за всички от К, П1, П2, П3 | B12: 36 | C12: 36
A13: Общо ПС, образователни медиатори, администрация | B13: =SUM(B6:B12) -> 121 | C13: =SUM(C6:C12) -> 116
A14: Планирани обучения на ПС с присъждане на 1 квалификационен кредит - 16 часа | D14: Единичен разход за възнаграждение | E14: Разходи - за 1 учебен срок
B15: Брой групи общо за проекта | C15: Брой академични часове
A16: Брой групи общо за проекта и брой академични часове (В клетка C16 Кандидатът задължително посочва 16 часа) | B16: 5 | C16: 16 | D16: 30 | E16: =B16*C16*D16 -> 2400 | F16: ПС са 40 по 8 човека в група - 5 групи
A17: Планирани обучения на ПС, медиатори, администрация без кредити - до половин ден (от 1 до 4 акад.часа)
A18: Брой групи общо за проекта и брой академични часове | B18: 11 | C18: 4 | D18: 30 | E18: =B18*C18*D18 -> 1320 | F18: 11 гр.х10-11човека обучения за целия период на проекта от 30 месеца
A19: Планирани обучения на ПС, медиатори, администрация без кредити - до половин ден (над 4 акад.часа до 8 акад. часа)
A20: Брой групи общо за проекта и брой академични часове | B20: 11 | C20: 8 | D20: 30 | E20: =B20*C20*D20 -> 2640 | F20: 11 гр. х9-11 човека обучения за целия период на проекта от 30 месеца
B23: Общо за възнаграждения за обучения за 1 учебен срок | E23: =E16+E18+E20 -> 6360 | G23: Разпределение между партньорите
B24: Планиран брой учебни срокове за участие в проекта | E24: 1 | G24: К | H24: П1 | I24: П2 | J24: П3
B25: Общо ЕР за възнаграждения за обучения по Дейност 2 | E25: =E23*E24 -> 6360 | G25: 0 | H25: 0 | I25: 0 | J25: =E26 -> 7314
B26: Индексирани общо разходи за обучения по Дейност 2 | E26: =E25*1.15 -> 7314 | F26: непомощ избран изпълнител-https://rq.mon.bg/home | J26: =E16*1.15 -> 2760
F27: минимална помощ - служители на ЮЛНЦ тр.договор | J27: =(E18+E20)*1.15 -> 4554
A30: Съгласно УК т.13 за Д2 - планира се само за 1 уч. срок, независмо че може да се изпълнят през всички уч. срока на проекта

Sheet Дейност 3
A1: Дейност 3. Мобилност и обмяна на опит
A2: Въвеждат се данни само в полетата, оцветени в жълто
A4: Съгласно Анализ-декларация на директора на образователната институция (когато е приложимо) | B4: Кандидат - училище група 4
A5: Индикативен брой проведени учебни часове /отработени астрономически часове за 1 учебен срок | D5: Единичен разход | E5: Възнаграждения за 1 учебен срок
A6: Възнаграждения на педагогически специалисти при обмяна на опит по Дейност 3 | B6: ПС - директор, заместник-директор, учител, др. ПС | C6: Планирани астрономически часове - общо
A7: Обмяна на опит на управленско ниво от директори/заместник-директори | B7: ПС -директор/ заместник-директор | C7: 20 | D7: 38 | E7: =C7*D7 -> 760 | F7: 1 директор х 20 часа за 1 уч. срок
A8: Обмяна на опит на ниво учебен процес от учители, др. ПС | B8: ПС - учител, др. ПС | C8: 80 | D8: 38 | E8: =C8*D8 -> 3040 | F8: 8ПСх10 часа за 1 уч.срок=8х10=80
A9: Възнаграждения на педагогически специалисти при мобилност-учители и др. по Дейност 3 | B9: ПС - учител, др. ПС | C9: Планирани учебни часове - общо
A10: Мобилност на учители, др. ПС като гост-преподаватели | B10: ПС | C10: 60 | D10: 29 | E10: =C10*D10 -> 1740 | F10: 10ПСх6 уч.часа за 1 уч.срок=60
G11: Разпределение между партньорите
B12: Общо разходи за възнаграждения за 1 учебен срок | E12: =SUM(E7:E10) -> 5540 | G12: K | H12: П1 | I12: П2 | J12: П3
B13: Планиран брой учебни срокове за участие в проекта | E13: 5 | G13: =E15 -> 31855 | H13: =E28 -> 67160 | I13: =E41 -> 0 | J13: =E54 -> 0
B14: Общо разходи за възнаграждения за Дейност 3 | E14: =E12*E13 -> 27700
B15: Индексирани общо разходи за възнаграждения по Дейност 3 | E15: =E14*1.15 -> 31855
A17: Съгласно Анализ-декларация на директора на образователната институция (когато е приложимо) | B17: Партньор 1 - у-ще без концентрация
A18: Индикативен брой проведени учебни часове (отработени астрономически часове) за 1 учебен срок | D18: Единичен разход | E18: Възнаграждения за 1 учебен срок
A19: Възнаграждения на педагогически специалисти при обмяна на опит по Дейност 3 | B19: ПС - директор/ заместник-директор, учител, др. ПС | C19: Планирани астрономически часове - общо
A20: Обмяна на опит на управленско ниво от директори/заместник-директори | B20: ПС - директор/ заместник-директор | C20: 20 | D20: 38 | E20: =C20*D20 -> 760 | F20: 1директорх20 часа за 1 срок
A21: Обмяна на опит на ниво учебен процес от учители, др. ПС | B21: ПС - учител, др. ПС | C21: 150 | D21: 38 | E21: =C21*D21 -> 5700 | F21: 15ПСх10часа за 1 уч.срок са15х10=150
A22: Възнаграждения на педагогически специалисти при мобилност-учители и др. по Дейност 3 | B22: ПС - учител, др. ПС | C22: Планирани учебни часове - общо
A23: Мобилност на учители, др. ПС като гост-преподаватели | B23: ПС | C23: 180 | D23: 29 | E23: =C23*D23 -> 5220 | F23: 15 ПС х12 уч.часа за 1 уч.срок са 180
B25: Общо разходи за възнаграждения за 1 учебен срок | E25: =SUM(E20:E23) -> 11680
B26: Планиран брой учебни срокове за участие в проекта | E26: 5
B27: Общо разходи за възнаграждения за Дейност 3 | E27: =E25*E26 -> 58400
B28: Индексирани общо разходи за възнаграждения по Дейност 3 | E28: =E27*1.15 -> 67160
A30: Съгласно Анализ-декларация на директора на образователната институция (когато е приложимо) | B30: Партньор 2
A31: Индикативен брой проведени учебни часове (отработени астрономически часове) за 1 учебен срок | D31: Единичен разход | E31: Възнаграждения за 1 учебен срок
A32: Възнаграждения на педагогически специалисти при обмяна на опит по Дейност 3 | B32: ПС - директор/ заместник-директор, учител, др. ПС | C32: Планирани астрономически часове - общо
A33: Обмяна на опит на управленско ниво от директори/ заместник-директори | B33: ПС - директор/ заместник-директор | D33: 38 | E33: =C33*D33 -> 0
A34: ООбмяна на опит на ниво учебен процес от учители, др. ПС | B34: ПС - учител, др. ПС | D34: 38 | E34: =C34*D34 -> 0
A35: Възнаграждения на педагогически специалисти при мобилност-учители и др. по Дейност 3 | B35: ПС - учител, др. ПС | C35: Планирани учебни часове - общо
A36: Мобилност на учители, др. ПС като гост-преподаватели | B36: ПС | D36: 29 | E36: =C36*D36 -> 0
B38: Общо разходи за възнаграждения за 1 учебен срок | E38: =SUM(E33:E36) -> 0
B39: Планиран брой учебни срокове за участие в проекта
B40: Общо разходи за възнаграждения за Дейност 3 | E40: =E38*E39 -> 0
B41: Индексирани общо разходи за възнаграждения по Дейност 3 | E41: =E40*1.15 -> 0
A43: Съгласно Анализ-декларация на директора на образователната институция (когато е приложимо) | B43: Партньор 3
A44: Индикативен брой проведени учебни часове (отработени астрономически часове) за 1 учебен срок | D44: Единичен разход | E44: Възнаграждения за 1 учебен срок
A45: Възнаграждения на педагогически специалисти при обмяна на опит по Дейност 3 | B45: ПС - директор/ заместник-директор учител, др. ПС | C45: Планирани астрономически часове - общо
A46: Обмяна на опит на управленско ниво от директори/ заместник-директори | B46: ПС - директор/ заместник-директор | D46: 38 | E46: =C46*D46 -> 0
...

Sheet Дейност 4
A1: Дейност 4. Училищни дейности в подкрепа на десегрегацията
A2: Въвеждат се данни само в полетата, оцветени в жълто
G6: Разпределение между партньорите
G7: К | H7: П1 | I7: П2 | J7: П3
A8: ПС - педагогически специалисти; ЕОД - експерти образователни дейности | G8: =E20 -> 79120 | H8: =E33 -> 27554 | I8: =E46 -> 8096 | J8: =E59 -> 16192
A9: Съгласно Анализ-декларация на директора на образователната институция (когато е приложимо) | B9: Кандидат училище 4 група | D9: 147 ученици
A10: Индикативен брой отработени астрономически часове и проведени учебни часове за 1 учебен срок | D10: Единичен разход | E10: Възнаграждения за 1 учебен срок
A11: Възнаграждения за МУД на педагогически специалисти и експерти образователни дейности по Дейност 4 | B11: Ръководител | C11: Планирани астрономически часове - общо | F11: 2МУД за 1 уч.срок с по 2ПС и по 2ЕОД
A12: Междуучилищни дейности | B12: ПС | C12: 32 | D12: 38 | E12: =C12*D12 -> 1216 | F12: 2ПСх2 МУД 8 часа на 1 уч.срок
A13: Междуучилищни дейности | B13: ЕОД | C13: 32 | D13: 44 | E13: =C13*D13 -> 1408 | F13: 2ЕОДх2 МУДХ8часа за 1 уч.срок
A14: Възнаграждения на педагогически специалисти за допълнителни обучения, вкл. въвеждане на адаптирани учебни материали и помагала за езиково обучение и интегрирана езикова подкрепа в Дейност 4 | B14: ПС | C14: Планирани учебни часове - общо
A15: Допълнителни обучения по БЕЛ и др. учебни предмети по Дейност 4 | B15: ПС | C15: 384 | D15: 29 | E15: =C15*D15 -> 11136 | F15: 12ПСх32 часа на 1 уч.срок - 2пъти седмично за 12гр. ученици
B17: Общо разходи за възнаграждения за 1 учебен срок | E17: =SUM(E12:E15) -> 13760
B18: Планиран брой учебни срокове за участие в проекта | E18: 5
B19: Общо разходи за възнаграждения за Дейност 4 | E19: =E17*E18 -> 68800
B20: Индексирани общо разходи за възнаграждения по Дейност 4 | E20: =E19*1.15 -> 79120
A22: Съгласно Анализ-декларация на директора на образователната институция (когато е приложимо) | B22: Партньор 1 у-ще без концентрация | D22: 189 ученици
A23: Индикативен брой отработени астрономически часове и проведени учебни часове за 1 учебен срок | D23: Единичен разход | E23: Възнаграждения за 1 учебен срок
A24: Възнаграждения за МУД на педагогически специалисти и експерти образователни дейности по Дейност 4 | B24: Ръководител | C24: Планирани астрономически часове - общо | F24: 2МУД за 1 уч.срок с по 2ПС и по 2ЕОД
A25: Междуучилищни дейности | B25: ПС | C25: 16 | D25: 38 | E25: =C25*D25 -> 608 | F25: 1ПСх2МУДх8часа за 1 уч.срок
A26: Междуучилищни дейности | B26: ЕОД | C26: 16 | D26: 44 | E26: =C26*D26 -> 704 | F26: 1ЕОДх2МУДх8часа за 1уч.срок
A27: Възнаграждения на педагогически специалисти за допълнителни обучения, вкл. въвеждане на адаптирани учебни материали и помагала за езиково обучение и интегрирана езикова подкрепа в Дейност 4 | B27: ПС | C27: Планирани учебни часове - общо
A28: Допълнителни обучения по БЕЛ и др. учебни предмети по Дейност 4 | B28: ПС | C28: 120 | D28: 29 | E28: =C28*D28 -> 3480 | F28: 10ПСх20 уч.часа за 1 уч.срок - за 1 път седмично плюс допълнително по 1 час на месец(16седмици*1уч.час+4месеца*1уч.час) за 10 гр.ученици
B30: Общо разходи за възнаграждения за 1 учебен срок | E30: =SUM(E25:E28) -> 4792
B31: Планиран брой учебни срокове за участие в проекта | E31: 5
B32: Общо разходи за възнаграждения за Дейност 4 | E32: =E30*E31 -> 23960
B33: Индексирани общо разходи за възнаграждения по Дейност 4 | E33: =E32*1.15 -> 27554
A35: Съгласно Анализ-декларация на директора на образователната институция (когато е приложимо) | B35: Партньор 2 - община
A36: Индикативен брой отработени астрономически часове и проведени учебни часове за 1 учебен срок | D36: Единичен разход | E36: Възнаграждения за 1 учебен срок
A37: Възнаграждения за МУД на педагогически специалисти и експерти образователни дейности по Дейност 4 | B37: Ръководител | C37: Планирани астрономически часове - общо
A38: Междуучилищни дейности | B38: ПС | D38: 38 | E38: =C38*D38 -> 0
A39: Междуучилищни дейности | B39: ЕОД | C39: 32 | D39: 44 | E39: =C39*D39 -> 1408 | F39: 2ЕОДх2МУДх8часа за 1 уч.срок
A40: Възнаграждения на педагогически специалисти за допълнителни обучения, вкл. въвеждане на адаптирани учебни материали и помагала за езиково обучени и интегрирана езикова подкрепав Дейност 4 | B40: ПС | C40: Планирани учебни часове - общо
A41: Допълнителни обучения по БЕЛ и др. учебни предмети по Дейност 4 | B41: ПС | D41: 29 | E41: =C41*D41 -> 0
B43: Общо разходи за възнаграждения за 1 учебен срок | E43: =SUM(E38:E41) -> 1408
B44: Планиран брой учебни срокове за участие в проекта | E44: 5
B45: Общо разходи за възнаграждения за Дейност 4 | E45: =E43*E44 -> 7040
B46: Индексирани общо разходи за възнаграждения по Дейност 4 | E46: =E45*1.15 -> 8096
A48: Съгласно Анализ-декларация на директора на образователната институция (когато е приложимо) | B48: Партньор 3 - ЮЛНЦ
A49: Индикативен брой отработени астрономически часове и проведени учебни часове за 1 учебен срок | D49: Единичен разход | E49: Възнаграждения за 1 учебен срок
...

Sheet Единна ставка
A1: Други преки и непреки разходи (единна ставка 40 % от разходите за възнаграждения за Дейност 1 - Дейност 4)
A3: Въвеждат се данни само в полетата, оцветени в жълто
E4: Разпределение между партньорите на други преки и непреки разходи (40% от преки разходи за персонал)
A5: Общо разходи за възнаграждения за Дейност 1 - Дейност 4 | C5: ='Дейност 1'!E22+'Дейност 1'!E43+'Дейност 1'!E64+'Дейност 1'!E86+'Дейност 2'!E26+'Дейност 3'!E15+'Дейност 3'!E28+'Дейност 3'!E41+'Дейност 3'!E54+'Дейност 4'!E20+'Дейност 4'!E33+'Дейност 4'!E46+'Дейност 4'!E59 -> 354453 | E5: K | F5: П1 | G5: П2 | H5: П3
A6: Други преки и непреки разходи (единна ставка 40 %) | C6: =ROUND(C5*40%,2) -> 141781.2 | E6: 35000 | F6: 32000 | G6: 25000 | H6: 49781.2
C8: =C5+C6 -> 496234.2
A10: В случай на повече партньори следва да се допълни формулата в клетка С5

Sheet De minimis
A1: Разходи, за които може са прилага режим de minimis
A2: В полетата, оцветени в синьо, се въвеждат стойностите от листове Дейност 1, 2, 3 и 4, за частни образователни институции/ЮЛНЦ по проекта
A3: В полетата, оцветени в жълто, се въвеждат сумите по съответните приложими режими за частни образователни институции/ЮЛНЦ по проекта
A5: Бюджет, разпределен за разходване от кандидат частна образователна институция Кандидат | B5: Общо | C5: В режим de minimis | D5: В режим непомощ
A6: Общо разходи за възнаграждения за Дейност 1
A7: Общо разходи за възнаграждения за Дейност 2
A8: Общо разходи за възнаграждения за Дейност 3
A9: Общо разходи за възнаграждения за Дейност 4
A10: Други преки и непреки разходи
B11: =SUM(B6:B10) -> 0 | C11: =C6+C7+C9+C10 -> 0 | D11: =D6+D7+D8+D9+D10 -> 0
A15: Бюджет, разпределен за разходване от частна образователна институция/ЮЛНЦ Партньор… | B15: Общо | C15: В режим de minimis | D15: В режим непомощ
A16: Общо разходи за възнаграждения за Дейност 1 | B16: ='Дейност 1'!J8 -> 8602 | C16: ='Дейност 1'!F84 -> 4048 | D16: ='Дейност 1'!F85 -> 4554
A17: Общо разходи за възнаграждения за Дейност 2 | B17: ='Дейност 2'!J25 -> 7314 | C17: ='Дейност 2'!J27 -> 4554 | D17: ='Дейност 2'!J26 -> 2760
A18: Общо разходи за възнаграждения за Дейност 3 | B18: ='Дейност 3'!E54 -> 0 | C18: =B18 -> 0
A19: Общо разходи за възнаграждения за Дейност 4 | B19: ='Дейност 4'!E59 -> 16192 | C19: ='Дейност 4'!F59 -> 8096 | D19: ='Дейност 4'!F60 -> 8096
A20: Други преки и непреки разходи | B20: ='Единна ставка'!H6 -> 49781.2 | C20: =B20 -> 49781.2
B21: =SUM(B16:B20) -> 81889.2 | C21: =C16+C17+C19+C20 -> 66479.2 | D21: =D16+D17+D18+D19+D20 -> 15410
A25: В случай на повече партньори частна образователна институция/ЮЛНЦ следва да се въведат допълнителни таблици за всеки един от тях.

Sheet Пример бюджет ИСУН
A1: Примерен бюджет в ИСУН | C1: Обвързване на разходите с индикатори и дейности в ИСУН | F1: Разпределение между партньорите
A2: I. СТАНДАРТНА ТАБЛИЦА НА РАЗХОДИТЕ ЗА ЕДИНИЦА ПРОДУКТ | B2: =B3 -> 354453 | C2: Връзка с индикатори | D2: Връзка с дейности | F2: К | G2: П1 | H2: П2 | I2: П3
A3: 1. Преки разходи за персонал | B3: =SUM(B4:B23) -> 354453 | F3: =SUM(B4:B7)+B26 -> 186593 | G3: =SUM(B8:B11)+B27 -> 163054 | H3: =SUM(B12:B15)+B28 -> 64698 | I3: =SUM(B16:B23)+B30 -> 81889.2
A4: 1.1. Възнаграждения за Дейност 1 - К | B4: ='Дейност 1'!G8 -> 40618 | C4: EECO15 | D4: Дейност 1
A5: 1.2. Възнаграждения за Дейност 2 -К | B5: ='Дейност 2'!G25 -> 0 | C5: SOI 1.5., EECR03 | D5: Дейност 2
A6: 1.3.Възнаграждения за Дейност 3 - К | B6: ='Дейност 3'!G13 -> 31855 | C6: SOI 1.6. | D6: Дейност 3
A7: 1.4.Възнаграждения за Дейност 4- К | B7: ='Дейност 4'!G8 -> 79120 | C7: SOI 1.4., EECO15, SRI 1.2. | D7: Дейност 4
A8: 1.5. Възнаграждения за Дейност 1- П1 | B8: ='Дейност 1'!H8 -> 36340 | C8: EECO15 | D8: Дейност 1
A9: 1.6. Възнаграждения за Дейност 2 - П1 | B9: ='Дейност 2'!H25 -> 0 | C9: SOI 1.5., EECR03 | D9: Дейност 2
A10: 1.7. Възнаграждения за Дейност 3 - П1 | B10: ='Дейност 3'!H13 -> 67160 | C10: SOI 1.6. | D10: Дейност 3
A11: 1.8. Възнаграждения за Дейност 4 - П1 | B11: ='Дейност 4'!H8 -> 27554 | C11: SOI 1.4., EECO15, SRI 1.2. | D11: Дейност 4
A12: 1.9. Възнаграждения за Дейност 1 -П2 | B12: ='Дейност 1'!I8 -> 31602 | C12: EECO15 | D12: Дейност 1
A13: 1.10. Възнаграждения по Дейност 2 - П2 | B13: ='Дейност 2'!I25 -> 0 | C13: SOI 1.5., EECR03 | D13: Дейност 2
A14: 1.11. Възнаграждения по Дейност 3- П2 | B14: ='Дейност 3'!I13 -> 0 | C14: SOI 1.6. | D14: Дейност 3
A15: 1.12. Възнаграждения по Дейност 4 - П2 | B15: ='Дейност 4'!I8 -> 8096 | C15: SOI 1.4., EECO15, SRI 1.2. | D15: Дейност 4
A16: 1.13. Възнаграждения по Дейност 1 - П3 например ЧУ/НПО непомощ | B16: ='De minimis'!D16 -> 4554 | C16: EECO15 | D16: Дейност 1
A17: 1.14. Възнаграждения по Дейност 1 - П3 например ЧУ/НПО de minimis | B17: ='De minimis'!C16 -> 4048 | C17: EECO15 | D17: Дейност 1
A18: 1.15. Възнаграждения по Дейност 2- П3 например ЧУ/НПО непомощ | B18: ='De minimis'!D17 -> 2760 | C18: SOI 1.5., EECR03 | D18: Дейност 2
A19: 1.16. Възнаграждения по Дейност 2- П3 например ЧУ/НПО de minimis | B19: ='De minimis'!C17 -> 4554 | C19: SOI 1.5., EECR03 | D19: Дейност 2
A20: 1.17. Възнаграждения по Дейност 3 - П3 например ЧУ/НПО непомощ | B20: ='De minimis'!D18 -> 0 | C20: SOI 1.6. | D20: Дейност 3
A21: 1.18. Възнаграждения по Дейност 3 - П3 например ЧУ/НПО de minimis | B21: ='De minimis'!C18 -> 0 | C21: SOI 1.6. | D21: Дейност 3
A22: 1.19. Възнаграждения по Дейност 4 - П3 например ЧУ/НПО непомощ | B22: ='De minimis'!D19 -> 8096 | C22: SOI 1.4., EECO15, SRI 1.2. | D22: Дейност 4
A23: 1.17. Възнаграждения по Дейност 4 - П3 например ЧУ/НПО de minimis | B23: ='De minimis'!C19 -> 8096 | C23: SOI 1.4., EECO15, SRI 1.2. | D23: Дейност 4
A24: II. ЕДИННА СТАВКА | B24: =B25 -> 141781.2
A25: 2. Други преки и непреки разходи (40 % от разходите за възнаграждения на персонал) | B25: =40%*B3 -> 141781.2
A26: 2.1. Други преки и непреки разходи К | B26: ='Единна ставка'!E6 -> 35000 | C26: EECO15 | D26: Дейност 1
A27: 2.2. Други преки и непреки разходи П1 | B27: ='Единна ставка'!F6 -> 32000 | C27: EECO15 | D27: Дейност 1
A28: 2.3. Други преки и непреки разходи П2 | B28: ='Единна ставка'!G6 -> 25000 | C28: EECO15 | D28: Дейност 1
A29: 2.4. Други преки и непреки разходи за П3 | B29: ='De minimis'!D20 -> 0 | C29: EECO15 | D29: Дейност 1
A30: 2.4. Други преки и непреки разходи за П3 например де минимис | B30: ='De minimis'!C20 -> 49781.2 | C30: EECO15 | D30: Дейност 1
A31: Общ бюджет | B31: =B2+B25 -> 496234.2
A33: Горепосоченият бюджет е примерен и зависи от броя на партньорите в проектното предложение, типа на организацията кандидат/партньор и планираните дейности, в зависимост от което се определя и режимът на държавни помощи (непомощ или de minimis). Примерът по-горе предвижда, че кандидатът, Партньор 1 и Партньор 2 са държавни или общински образователни институции, община, а Партньор 3 - ЧУ или ЮЛНЦ и съответно в Колона В всеки разход е обвързан към предходните листове при тези условия. Кандидатът следва да въведе в ИСУН само релевантните бюджетни редове от трето ниво, в зависимост от параметрите на своето проектно предложение.

Sheet I.Разходи за персонал
A1: I. РАЗХОДИ ЗА ПЕРСОНАЛ | J1: Общо разходи за възнаграждения на персонала, от които
J2: Кандидат | K2: Партньор 1 | L2: Партньор 2
A3: 1. | B3: Разходи за възнаграждения по Дейност 1*
A4: № | B4: Поддейност 1.2 | C4: Длъжност | D4: Описание на конкретните дейности, ангажименти,теми, др. като се посочва за кой кандидат/партньор се отнася | E4: Брой часове | F4: Часова ставка | G4: Общо
A5: 1
A6: 2
A7: 3
A8: 4
A9: 5
A10: 6
A11: 7
A12: 8
A13: 9
A14: 10
A15: Общо разходи за възнаграждения по Дейност 1 | G15: =SUM(G5:G14) -> 0
A16: 2. | B16: Разходи за възнаграждения по Дейност 2*
A17: № | B17: Поддейност 2.1/ Поддейност 2.2. | C17: Длъжност | D17: Описание на конкретните дейности, ангажименти,теми, др.като се посочва за кой кандидат/партньор се отнася | E17: Брой часове | F17: Часова ставка | G17: Общо
A18: 1
A19: 2
A20: 3
A21: 4
A22: 5
A23: 6
A24: 7
A25: 8
A26: 9
A27: 10
A28: Общо разходи за възнаграждения по Дейност 2 | G28: =SUM(G18:G27) -> 0
A29: 3. | B29: Разходи за възнаграждения по Дейност 4*
A30: № | B30: Дейност 4 | C30: Длъжност | D30: Описание на конкретните дейности, ангажименти,теми, др.като се посочва за кой кандидат/партньор се отнася | E30: Брой часове | F30: Часова ставка | G30: Общо
A31: 1
A32: 2
A33: 3
A34: 4
A35: 5
A36: 6
A37: 7
A38: 8
A39: 9
A40: 10
...

Sheet II. Ед. ставка 40%от разделI
A1: II. ЕДИННА СТАВКА 40 % ОТ РАЗДЕЛ I - Други преки и непреки разходи
H3: ОбщоДруги преки и непреки разходи, от които
A4: 1. | B4: Други преки и непреки разходи Дейност 1 | H4: Кандидат | I4: Партньор 1 | J4: Партньор 2
A5: № | B5: Дейност № | C5: Сума по раздел I | D5: 40% от Раздел I
A6: 1 | B6: Дейност 1, кандидат | D6: =C6*0.4 -> 0
A7: 2 | B7: Дейност 1, партньор…. | D7: =C7*0.4 -> 0
A8: 3 | D8: =C8*0.4 -> 0
A9: 4
A10: 5
A11: 6
A12: 7
A13: 8
A14: 9
A15: Общо други разходи по Дейност 1 Раздел II.ЕДИННА СТАВКА 40 % ОТ РАЗДЕЛ I | D15: =SUM(D6:D14) -> 0
A17: 1. | B17: Други преки и непреки разходи Дейност 2
A18: № | B18: Дейност № | C18: Сума по раздел I | D18: 40% от Раздел I
A19: 1 | B19: Дейност 2.1, кандидат | D19: =C19*0.4 -> 0
A20: 2 | B20: Дейност 2.1, партньор…. | D20: =C20*0.4 -> 0
A21: 3 | B21: Дейност 2.2, кандидат….. | D21: =C21*0.4 -> 0
A22: 4 | B22: Дейност 2.2, партньор…..
A23: 5
A24: 6
A25: 7
A26: 8
A27: 9
A28: Общо други разходи по Дейност 2 Раздел II.ЕДИННА СТАВКА 40 % ОТ РАЗДЕЛ I | D28: =SUM(D19:D27) -> 0
A30: 1. | B30: Други преки и непреки разходи Дейност 4
A31: № | B31: Дейност № | C31: Сума по раздел I | D31: 40% от Раздел I
A32: 1 | B32: Дейност 4, кандидат | D32: =C32*0.4 -> 0
A33: 2 | B33: Дейност 4, партньор…. | D33: =C33*0.4 -> 0
A34: 3 | D34: =C34*0.4 -> 0
A35: 4
A36: 5
A37: 6
A38: 7
A39: 8
A40: 9
A41: Общо други разходи по Дейност 4 Раздел II.ЕДИННА СТАВКА 40 % ОТ РАЗДЕЛ I | D41: =SUM(D32:D40) -> 0

Sheet III. Стандартна таблица - ЕР
A1: III. СТАНДАРТНА ТАБЛИЦА НА РАЗХОДИТЕ ЗА ЕДИНИЦА ПРОДУКТ
A2: 1. | B2: Разходи за занимания по интереси | I2: Общо разходи за занимания по интереси за ученици, от които
A3: 1. | B3: Разходи за занимания по интереси на ученици | I3: Кандидат | J3: Партньор 1 | K3: Партньор 2
A4: № | B4: Дейност № | C4: Кандидат/ партньор | D4: Вид, тип, наименование на заниманието по интереси (клуб, група, отбовр, др. по вид изкуство и култура, спорт, наука, др.) | E4: Брой деца/ученици | F4: Единичен разход в лв.за 1 дете/ученик в група средно от/до 15 | G4: Общо
A5: 1 | G5: =E5*F5 -> 0
A6: 2 | G6: =E6*F6 -> 0
A7: 3 | G7: =E7*F7 -> 0
A8: 4 | G8: =E8*F8 -> 0
A9: 5 | G9: =E9*F9 -> 0
A10: 6 | G10: =E10+F10 -> 0
A11: 7 | G11: =E11+F11 -> 0
A12: 8 | G12: 0
A13: 9 | G13: =E13+F13 -> 0
A14: Общо разходи за занимания по интереси за ученици | G14: =SUM(G5:G13) -> 0
A16: 2. | B16: Разходи за занимания по интереси за деца (в предучилищното образование) | I16: Общо разходи за занимания по интереси за деца в ДГ, от които
A17: № | B17: Дейност № | C17: Кандидат/ партньор | D17: Вид, тип, наименование на заниманието по интереси (клуб, група, отбовр, др. по вид изкуство и култура, спорт, наука, др.) | E17: Брой деца/ученици | F17: Единичен разход в лв.за 1 дете/ученик в група средно от/до 15 | G17: Общо | I17: Кандидат | J17: Партньор 1 | K17: Партньор 2
A18: 1 | G18: =E18*F18 -> 0
A19: 2 | G19: =E19*F19 -> 0
A20: 3 | G20: =E20*F20 -> 0
A21: 4 | G21: =E21*F21 -> 0
A22: 5 | G22: =E22*F22 -> 0
A23: 6 | G23: =E23+F23 -> 0
A24: 7 | G24: =E24+F24 -> 0
A25: 8 | G25: 0
A26: 9 | G26: =E26+F26 -> 0
A27: Общо разходи за занимания по интереси за деца в предучилищното образование | G27: =SUM(G18:G26) -> 0
A29: 3. | B29: Разходи за интензивна работа с родители
A30: № | B30: Дейност № | C30: Кандидат/ партньор | D30: Вид, тип, наименование на конкретната работа/дейност | E30: Брой родители | F30: Единичен разход в лв.за 1 родител | G30: Общо | I30: Общо разходи за интензивна работа с родители, от които
A31: 1 | G31: =E31*F31 -> 0 | I31: Кандидат | J31: Партньор 1 | K31: Партньор 2
A32: 2 | G32: =E32*F32 -> 0
A33: 3 | G33: =E33*F33 -> 0
A34: 4 | G34: =E34*F34 -> 0
A35: 5 | G35: =E35*F35 -> 0
A36: 6 | G36: =E36+F36 -> 0
A37: 7 | G37: =E37+F37 -> 0
A38: 8 | G38: 0
A39: 9 | G39: =E39+F39 -> 0
A40: Общо разходи за интензивна работа с родители | G40: =SUM(G31:G39) -> 0
A42: 4. | B42: Разходи за възнаграждения на образователни медиатори
A43: № | B43: Дейност № | C43: Кандидат/ партньор | D43: Вид, тип, наименование на конкретната работа/дейност | E43: Брой отработени месеци макисмум по 4 часа дневно/Брой отработени часове | F43: Единичен месечен разход в лв.за 1 отработен месец | G43: Общо | I43: Общо разходи за интензивна работа с родители, от които
...

Sheet IV.ЕС МУД
A1: IV. ЕДНОКРАТНИ СУМИ
A2: 5. | B2: Разходи за междуинституционални/междуучилищни дейности | I2: Общо разходи за занимания по интереси, от които
A3: 1 | B3: Разходи за междуинституционални/междуучилищни дейности с продължителност половин ден | I3: Кандидат | J3: Партньор 1 | K3: Партньор 2
A4: № | B4: Дейност № | C4: Кандидат/ партньор | D4: Вид, тип, наименование на междуинституционалната/междучилищната дейност от половин ден | E4: Брой МУД | F4: Еднократна сума за 1 МУД | G4: Общо
A5: 1 | G5: =E5*F5 -> 0
A6: 2 | G6: =E6*F6 -> 0
A7: 3 | G7: =E7*F7 -> 0
A8: 4 | G8: =E8*F8 -> 0
A9: 5 | G9: =E9*F9 -> 0
A10: 6 | G10: =E10+F10 -> 0
A11: 7 | G11: =E11+F11 -> 0
A12: 8 | G12: 0
A13: 9 | G13: =E13+F13 -> 0
A14: Общо разходи за междуучилищни/междуинституционални дейности от 1/2 ден | G14: =SUM(G5:G13) -> 0
A15: 2 | B15: Разходи за междуинституционални/междуучилищни дейности с продължителност един ден
A16: № | B16: Дейност № | C16: Кандидат/ партньор | D16: Вид, тип, наименование на междуинституционалната/междучилищната дейност от един ден | E16: Брой МУД | F16: Еднократна сума за 1 МУД | G16: Общо
A17: 1 | G17: =E17*F17 -> 0
A18: 2 | G18: =E18*F18 -> 0
A19: 3 | G19: =E19*F19 -> 0
A20: 4 | G20: =E20*F20 -> 0
A21: 5 | G21: =E21*F21 -> 0
A22: 6 | G22: =E22+F22 -> 0
A23: 7 | G23: =E23+F23 -> 0
A24: 8 | G24: 0
A25: 9 | G25: =E25+F25 -> 0
A26: Общо разходи за междуучилищни/междуинституционални дейности от 1 цял ден | G26: =SUM(G17:G25) -> 0

Sheet IV.ЕС индивидуална подкрепа 
A1: IV. ЕДНОКРАТНИ СУМИ
A2: 1 | B2: Разходи за индивидулана подкрепа за изнесени занимания с нощувки | I2: Общо разходи за занимания по интереси, от които
A3: № | B3: Дейност № | C3: Кандидат/ партньор | D3: Вид, тип, наименование на изнесното занимание според броя на нощувките | E3: Брой деца/ученици | F3: Еднократна сума в лв. | G3: Общо
A4: 1 | B4: 1.1. | D4: ЕС за индивидуална подкрепа на дете/ученик (1 нощувка) | G4: =E4*F4 -> 0
A5: 2 | B5: 2.1. | G5: =E5*F5 -> 0
A6: 3 | B6: 2.3. | G6: =E6*F6 -> 0
A7: 4 | B7: 1.1. | D7: ЕС за индивидуална подкрепа на дете/ученик (2 нощувки) | G7: =E7*F7 -> 0
A8: 5 | B8: 2.1. | G8: =E8*F8 -> 0
A9: 6 | B9: 2.1. | D9: ЕС за индивидуална подкрепа на дете/ученик (3нощувки) | G9: =E9+F9 -> 0
A10: 7 | B10: 2.3. | D10: ЕС за индивидуална подкрепа на дете/ученик (4 нощувки) | G10: =E10+F10 -> 0
A11: 8 | B11: … | D11: ЕС за индивидуална подкрепа на дете/ученик (5 нощувки) | G11: 0
A12: 9 | B12: … | G12: =E12+F12 -> 0
A13: Общо разходи заиндивидулан подкрепа за изнесени занимания с нощувки за деца/ученици | G13: =SUM(G4:G12) -> 0

Sheet IV.ЕС орг изнесено занимание
A1: IV. ЕДНОКРТАНИ СУМИ | K1: Общо разходи за транспорт, от които
A2: Разходи за организиране на изнесено занимание с нощувка | K2: Кандидат | L2: Партньор 1 | M2: Партньор 2
A3: 1. Разходи за транспорт
A4: № | B4: Дейност № | C4: Кандидат/ партньор | D4: Описание на конкретното изнесено занимание, вкл. брой ученици, брой възрастни лица и др. | E4: Начин на пътуването - външен изпълнител/собтсвен транспорт | F4: Маршрут (в страната) | G4: Разстояние в км/общ пробег (ОП) | H4: Разход в лв. за км (ЕРкм) | I4: Стойност общо
A6: 1 | H6: 1.38 | I6: =G6*H6 -> 0
A7: 2 | H7: 2.07 | I7: =G7*H7 -> 0
A8: 3 | H8: 1.04 | I8: =G8*H8 -> 0
A9: 4 | H9: 1.5 | I9: =G9*H9 -> 0
A10: 5 | I10: =G10*H10 -> 0
A11: 6 | I11: =G11*H11 -> 0
A12: 7 | I12: =G12*H12 -> 0
A13: 8 | I13: =G13*H13 -> 0
A14: 9 | I14: =G14*H14 -> 0
A15: 10 | I15: =G15*H15 -> 0
A16: Общо разходи за транспорт | I16: =SUM(I6:I15) -> 0
A17: 2. Разходи за дневни и нощувки на придружаващите педагогически специалисти и др.възрастни
A18: № | B18: Дейност № | C18: Кандидат/ партньор | D18: Дестинация/маршрут | E18: Брой лица (БПС) | F18: Брой дни (БД) | G18: Дневни в лв. | H18: Брой нощувки (БН) | I18: Нощувки в лв. | J18: Стойност общо в лв. | L18: Общо разходи за дневни и нощувки на ПС, от които
L19: Кандидат | M19: Партньор 1 | N19: Партньор 2
A20: 1 | E20: 6 | F20: 3 | G20: 40 | H20: 2 | I20: 95 | J20: =E20*(F20*G20+H20*I20) -> 1860
A21: 2 | J21: =E21*(F21*G21+H21*I21) -> 0
A22: 3 | J22: =E22*(F22*G22+H22*I22) -> 0
A23: 4 | J23: =E23*(F23*G23+H23*I23) -> 0
A24: 5 | J24: =E24*(F24*G24+H24*I24) -> 0
A25: 6 | J25: =E25*(F25*G25+H25*I25) -> 0
A26: 7 | J26: =E26*(F26*G26+H26*I26) -> 0
A27: 8 | J27: =E27*(F27*G27+H27*I27) -> 0
A28: 9 | J28: =E28*(F28*G28+H28*I28) -> 0
A29: Общо разходи за дневни и нощувки на педагогически специлаисти и др. възрастни | J29: =SUM(J20:J28) -> 1860
A30: 3. Разходи за възнагражденияна на педагогически специалисти и др.възрастни при изнесени занимания с нощувки
A31: № | B31: Длъжност | C31: Кандидат/ партньор | D31: Описание на конкретните дейности, ангажименти,теми, др. | E31: Брой часове (ОЧ) | F31: Часова ставка (ПВ) | G31: Общо
A32: 1 | F32: 26 | G32: =E32*F32 -> 0 | L32: Общо разходи за възнаграждения на ПС
A33: 2 | G33: =E33*F33 -> 0 | L33: Кандидат | M33: Партньор 1 | N33: Партньор 2
A34: 3 | G34: =E34*F34 -> 0
A35: 4 | G35: =E35*F35 -> 0
A36: 5 | G36: =E36*F36 -> 0
A37: 6 | G37: =E37*F37 -> 0
A38: 7 | G38: =E38*F38 -> 0
A39: 8 | G39: =E39*F39 -> 0
A40: 9 | G40: =E40*F40 -> 0
A41: 10 | G41: =E41*F41 -> 0
...
